{
 "currentVersion": 11.5,
 "serviceDescription": "1982 Imagery",
 "serviceItemId": "9853ee5a83754b0d88f5e0e4b875a167",
 "name": "Imagery/Imagery_1982",
 "description": "1982 Imagery",
 "extent": {
  "xmin": 549021.8133352132,
  "ymin": 465019.1439812235,
  "xmax": 659879.7281794439,
  "ymax": 673947.5222609163,
  "spatialReference": {
   "wkid": 2880,
   "latestWkid": 2880
  }
 },
 "initialExtent": {
  "xmin": 549021.8133352132,
  "ymin": 465019.1439812235,
  "xmax": 659879.7281794439,
  "ymax": 673947.5222609163,
  "spatialReference": {
   "wkid": 2880,
   "latestWkid": 2880
  }
 },
 "fullExtent": {
  "xmin": 549021.8133352132,
  "ymin": 465019.1439812235,
  "xmax": 659879.7281794439,
  "ymax": 673947.5222609163,
  "spatialReference": {
   "wkid": 2880,
   "latestWkid": 2880
  }
 },
 "sortableFields": "",
 "bandCount": 1,
 "pixelType": "U8",
 "minValues": [
  9
 ],
 "maxValues": [
  255
 ],
 "meanValues": [
  147.78835039357122
 ],
 "stdvValues": [
  53.77378163865469
 ],
 "serviceProperties": "Center<\/MosaicMethod>First<\/MosaicOperator>true<\/SortAscending><\/LockImageID><\/TileOrderField>0<\/TileOrderBase>0.000000<\/AvgImageSpacingX>0.000000<\/AvgImageSpacingY>0.0<\/ViewPointX>0.0<\/ViewPointY>0.0<\/ViewPointDefShiftX>0.0<\/ViewPointDefShiftY>None<\/CompressionMethod>75<\/CompressionQuality>0.010000<\/CompressionTolerance>Bilinear<\/SamplingMethod><\/ImageServiceProperties><\/ImageServer>",
 "allowedFields": "",
 "hasMultidimensions": false,
 "pixelSizeX": 0.8475246161697118,
 "pixelSizeY": 0.8475246161697122,
 "meanPixelSize": 0.25832601966056756,
 "datasetFormat": "FGDBR",
 "uncompressedSize": 32244785832,
 "blockWidth": 128,
 "blockHeight": 128,
 "compressionType": "LZ77",
 "bandNames": [
  "Band_1"
 ],
 "allowCopy": true,
 "allowAnalysis": true,
 "itemAccess": false,
 "inspectionCapabilities": "",
 "minPixelSize": 0,
 "maxPixelSize": 0,
 "copyrightText": "NCCDE GIS",
 "serviceDataType": "esriImageServiceDataTypeGeneric",
 "serviceSourceType": "esriImageServiceSourceTypeDataset",
 "objectIdField": "",
 "fields": [],
 "capabilities": "Mensuration,Image,Metadata",
 "defaultMosaicMethod": "Center",
 "allowedMosaicMethods": "",
 "sortField": "",
 "sortValue": null,
 "sortAscending": true,
 "mosaicOperator": "First",
 "defaultCompressionQuality": 75,
 "defaultResamplingMethod": "Bilinear",
 "maxImageHeight": 4100,
 "maxImageWidth": 15000,
 "allowRasterFunction": true,
 "rasterFunctionInfos": [
  {
   "name": "None",
   "description": "",
   "help": ""
  }
 ],
 "rasterTypeInfos": [
  {
   "name": "Raster Dataset",
   "description": "Supports all ArcGIS Raster Datasets",
   "help": ""
  }
 ],
 "mensurationCapabilities": "Basic",
 "hasHistograms": true,
 "hasColormap": false,
 "hasRasterAttributeTable": false,
 "minScale": 0,
 "maxScale": 0,
 "exportTilesAllowed": false,
 "supportsStatistics": false,
 "supportsAdvancedQueries": false,
 "editFieldsInfo": null,
 "ownershipBasedAccessControlForRasters": null,
 "allowComputeTiePoints": false,
 "useStandardizedQueries": true,
 "advancedQueryCapabilities": {
  "useStandardizedQueries": true,
  "supportsStatistics": false,
  "supportsOrderBy": false,
  "supportsDistinct": false,
  "supportsPagination": false
 },
 "spatialReference": {
  "wkid": 2880,
  "latestWkid": 2880
 }
}
