{
 "currentVersion": 11.5,
 "serviceDescription": "Imagery 2017",
 "serviceItemId": "8702f80cef2543bc81c2da37d57d6fbb",
 "name": "Imagery/Imagery_2017",
 "description": "Imagery 2017",
 "extent": {
  "xmin": 165272.64388709003,
  "ymin": 139783.46375892725,
  "xmax": 200895.68216935,
  "ymax": 205772.64414529,
  "spatialReference": {
   "wkt2": "PROJCRS[\"NAD_1983_Delaware\",BASEGEOGCRS[\"GCS_NAD83_1986\",DATUM[\"D_North_American_1983\",ELLIPSOID[\"GRS_1980\",6378137.0,298.257222101,LENGTHUNIT[\"Meter\",1.0]]],PRIMEM[\"Greenwich\",0.0,ANGLEUNIT[\"Degree\",0.0174532925199433]],CS[ellipsoidal,2],ANGLEUNIT[\"Degree\",0.0174532925199433]],CONVERSION[\"Transverse_Mercator\",METHOD[\"Transverse_Mercator\"],PARAMETER[\"false_easting\",200000.0,LENGTHUNIT[\"Meter\",1.0]],PARAMETER[\"false_northing\",0.0,LENGTHUNIT[\"Meter\",1.0]],PARAMETER[\"central_meridian\",-75.416666666667,ANGLEUNIT[\"Degree\",0.0174532925199433]],PARAMETER[\"scale_factor\",0.999995,SCALEUNIT[\"Unity\",1.0]],PARAMETER[\"latitude_of_origin\",38.0,ANGLEUNIT[\"Degree\",0.0174532925199433]]],CS[Cartesian,2],AXIS[\"Easting (X)\",east,ORDER[1]],AXIS[\"Northing (Y)\",north,ORDER[2]],LENGTHUNIT[\"Meter\",1.0]]",
   "wkt": "PROJCS[\"NAD_1983_Delaware\",GEOGCS[\"GCS_NAD83_1986\",DATUM[\"D_North_American_1983\",SPHEROID[\"GRS_1980\",6378137.0,298.257222101]],PRIMEM[\"Greenwich\",0.0],UNIT[\"Degree\",0.0174532925199433]],PROJECTION[\"Transverse_Mercator\"],PARAMETER[\"false_easting\",200000.0],PARAMETER[\"false_northing\",0.0],PARAMETER[\"central_meridian\",-75.416666666667],PARAMETER[\"scale_factor\",0.999995],PARAMETER[\"latitude_of_origin\",38.0],UNIT[\"Meter\",1.0]]"
  }
 },
 "initialExtent": {
  "xmin": 165272.64388709003,
  "ymin": 139783.46375892725,
  "xmax": 200895.68216935,
  "ymax": 205772.64414529,
  "spatialReference": {
   "wkt2": "PROJCRS[\"NAD_1983_Delaware\",BASEGEOGCRS[\"GCS_NAD83_1986\",DATUM[\"D_North_American_1983\",ELLIPSOID[\"GRS_1980\",6378137.0,298.257222101,LENGTHUNIT[\"Meter\",1.0]]],PRIMEM[\"Greenwich\",0.0,ANGLEUNIT[\"Degree\",0.0174532925199433]],CS[ellipsoidal,2],ANGLEUNIT[\"Degree\",0.0174532925199433]],CONVERSION[\"Transverse_Mercator\",METHOD[\"Transverse_Mercator\"],PARAMETER[\"false_easting\",200000.0,LENGTHUNIT[\"Meter\",1.0]],PARAMETER[\"false_northing\",0.0,LENGTHUNIT[\"Meter\",1.0]],PARAMETER[\"central_meridian\",-75.416666666667,ANGLEUNIT[\"Degree\",0.0174532925199433]],PARAMETER[\"scale_factor\",0.999995,SCALEUNIT[\"Unity\",1.0]],PARAMETER[\"latitude_of_origin\",38.0,ANGLEUNIT[\"Degree\",0.0174532925199433]]],CS[Cartesian,2],AXIS[\"Easting (X)\",east,ORDER[1]],AXIS[\"Northing (Y)\",north,ORDER[2]],LENGTHUNIT[\"Meter\",1.0]]",
   "wkt": "PROJCS[\"NAD_1983_Delaware\",GEOGCS[\"GCS_NAD83_1986\",DATUM[\"D_North_American_1983\",SPHEROID[\"GRS_1980\",6378137.0,298.257222101]],PRIMEM[\"Greenwich\",0.0],UNIT[\"Degree\",0.0174532925199433]],PROJECTION[\"Transverse_Mercator\"],PARAMETER[\"false_easting\",200000.0],PARAMETER[\"false_northing\",0.0],PARAMETER[\"central_meridian\",-75.416666666667],PARAMETER[\"scale_factor\",0.999995],PARAMETER[\"latitude_of_origin\",38.0],UNIT[\"Meter\",1.0]]"
  }
 },
 "fullExtent": {
  "xmin": 165272.64388709003,
  "ymin": 139783.46375892725,
  "xmax": 200895.68216935,
  "ymax": 205772.64414529,
  "spatialReference": {
   "wkt2": "PROJCRS[\"NAD_1983_Delaware\",BASEGEOGCRS[\"GCS_NAD83_1986\",DATUM[\"D_North_American_1983\",ELLIPSOID[\"GRS_1980\",6378137.0,298.257222101,LENGTHUNIT[\"Meter\",1.0]]],PRIMEM[\"Greenwich\",0.0,ANGLEUNIT[\"Degree\",0.0174532925199433]],CS[ellipsoidal,2],ANGLEUNIT[\"Degree\",0.0174532925199433]],CONVERSION[\"Transverse_Mercator\",METHOD[\"Transverse_Mercator\"],PARAMETER[\"false_easting\",200000.0,LENGTHUNIT[\"Meter\",1.0]],PARAMETER[\"false_northing\",0.0,LENGTHUNIT[\"Meter\",1.0]],PARAMETER[\"central_meridian\",-75.416666666667,ANGLEUNIT[\"Degree\",0.0174532925199433]],PARAMETER[\"scale_factor\",0.999995,SCALEUNIT[\"Unity\",1.0]],PARAMETER[\"latitude_of_origin\",38.0,ANGLEUNIT[\"Degree\",0.0174532925199433]]],CS[Cartesian,2],AXIS[\"Easting (X)\",east,ORDER[1]],AXIS[\"Northing (Y)\",north,ORDER[2]],LENGTHUNIT[\"Meter\",1.0]]",
   "wkt": "PROJCS[\"NAD_1983_Delaware\",GEOGCS[\"GCS_NAD83_1986\",DATUM[\"D_North_American_1983\",SPHEROID[\"GRS_1980\",6378137.0,298.257222101]],PRIMEM[\"Greenwich\",0.0],UNIT[\"Degree\",0.0174532925199433]],PROJECTION[\"Transverse_Mercator\"],PARAMETER[\"false_easting\",200000.0],PARAMETER[\"false_northing\",0.0],PARAMETER[\"central_meridian\",-75.416666666667],PARAMETER[\"scale_factor\",0.999995],PARAMETER[\"latitude_of_origin\",38.0],UNIT[\"Meter\",1.0]]"
  }
 },
 "sortableFields": "",
 "bandCount": 3,
 "pixelType": "U8",
 "minValues": [
  0,
  0,
  0
 ],
 "maxValues": [
  255,
  255,
  255
 ],
 "meanValues": [
  131.82350392571814,
  118.83578533825806,
  95.51176476968472
 ],
 "stdvValues": [
  43.21228875093841,
  39.101610245828354,
  33.20434129790551
 ],
 "serviceProperties": "Center<\/MosaicMethod>First<\/MosaicOperator>true<\/SortAscending><\/LockImageID><\/TileOrderField>0<\/TileOrderBase>0.000000<\/AvgImageSpacingX>0.000000<\/AvgImageSpacingY>0.0<\/ViewPointX>0.0<\/ViewPointY>0.0<\/ViewPointDefShiftX>0.0<\/ViewPointDefShiftY>None<\/CompressionMethod>75<\/CompressionQuality>0.010000<\/CompressionTolerance>Bilinear<\/SamplingMethod><\/ImageServiceProperties><\/ImageServer>",
 "allowedFields": "",
 "hasMultidimensions": false,
 "pixelSizeX": 0.22860045999999987,
 "pixelSizeY": 0.2286004600000095,
 "meanPixelSize": 0.22860046000000467,
 "datasetFormat": "FGDBR",
 "uncompressedSize": 134949334338,
 "blockWidth": 128,
 "blockHeight": 128,
 "compressionType": "LZ77",
 "bandNames": [
  "Band_1",
  "Band_2",
  "Band_3"
 ],
 "allowCopy": true,
 "allowAnalysis": true,
 "itemAccess": false,
 "inspectionCapabilities": "",
 "minPixelSize": 0,
 "maxPixelSize": 0,
 "copyrightText": "NCCDE GIS",
 "serviceDataType": "esriImageServiceDataTypeProcessed",
 "serviceSourceType": "esriImageServiceSourceTypeDataset",
 "objectIdField": "",
 "fields": [],
 "capabilities": "Image,Metadata,Mensuration",
 "defaultMosaicMethod": "Center",
 "allowedMosaicMethods": "",
 "sortField": "",
 "sortValue": null,
 "sortAscending": true,
 "mosaicOperator": "First",
 "defaultCompressionQuality": 75,
 "defaultResamplingMethod": "Bilinear",
 "maxImageHeight": 4100,
 "maxImageWidth": 15000,
 "allowRasterFunction": true,
 "rasterFunctionInfos": [
  {
   "name": "None",
   "description": "",
   "help": ""
  }
 ],
 "rasterTypeInfos": [
  {
   "name": "Raster Dataset",
   "description": "Supports all ArcGIS Raster Datasets",
   "help": ""
  }
 ],
 "mensurationCapabilities": "Basic",
 "hasHistograms": true,
 "hasColormap": false,
 "hasRasterAttributeTable": false,
 "minScale": 0,
 "maxScale": 0,
 "exportTilesAllowed": false,
 "supportsStatistics": false,
 "supportsAdvancedQueries": false,
 "editFieldsInfo": null,
 "ownershipBasedAccessControlForRasters": null,
 "allowComputeTiePoints": false,
 "useStandardizedQueries": true,
 "advancedQueryCapabilities": {
  "useStandardizedQueries": true,
  "supportsStatistics": false,
  "supportsOrderBy": false,
  "supportsDistinct": false,
  "supportsPagination": false
 },
 "spatialReference": {
  "wkt2": "PROJCRS[\"NAD_1983_Delaware\",BASEGEOGCRS[\"GCS_NAD83_1986\",DATUM[\"D_North_American_1983\",ELLIPSOID[\"GRS_1980\",6378137.0,298.257222101,LENGTHUNIT[\"Meter\",1.0]]],PRIMEM[\"Greenwich\",0.0,ANGLEUNIT[\"Degree\",0.0174532925199433]],CS[ellipsoidal,2],ANGLEUNIT[\"Degree\",0.0174532925199433]],CONVERSION[\"Transverse_Mercator\",METHOD[\"Transverse_Mercator\"],PARAMETER[\"false_easting\",200000.0,LENGTHUNIT[\"Meter\",1.0]],PARAMETER[\"false_northing\",0.0,LENGTHUNIT[\"Meter\",1.0]],PARAMETER[\"central_meridian\",-75.416666666667,ANGLEUNIT[\"Degree\",0.0174532925199433]],PARAMETER[\"scale_factor\",0.999995,SCALEUNIT[\"Unity\",1.0]],PARAMETER[\"latitude_of_origin\",38.0,ANGLEUNIT[\"Degree\",0.0174532925199433]]],CS[Cartesian,2],AXIS[\"Easting (X)\",east,ORDER[1]],AXIS[\"Northing (Y)\",north,ORDER[2]],LENGTHUNIT[\"Meter\",1.0]]",
  "wkt": "PROJCS[\"NAD_1983_Delaware\",GEOGCS[\"GCS_NAD83_1986\",DATUM[\"D_North_American_1983\",SPHEROID[\"GRS_1980\",6378137.0,298.257222101]],PRIMEM[\"Greenwich\",0.0],UNIT[\"Degree\",0.0174532925199433]],PROJECTION[\"Transverse_Mercator\"],PARAMETER[\"false_easting\",200000.0],PARAMETER[\"false_northing\",0.0],PARAMETER[\"central_meridian\",-75.416666666667],PARAMETER[\"scale_factor\",0.999995],PARAMETER[\"latitude_of_origin\",38.0],UNIT[\"Meter\",1.0]]"
 }
}
