{
 "currentVersion": 11.5,
 "serviceDescription": "2019 Imagery",
 "serviceItemId": "211b0bd229b04d278cb1065a56c6a41b",
 "name": "Imagery/Imagery_2019",
 "description": "2019 Imagery",
 "extent": {
  "xmin": 542232.1526300348,
  "ymin": 469164.72824957967,
  "xmax": 659082.9026300348,
  "ymax": 675105.7282495797,
  "spatialReference": {
   "wkt2": "PROJCRS[\"NAD_1983_Delaware\",BASEGEOGCRS[\"GCS_NAD83_1986\",DATUM[\"D_North_American_1983\",ELLIPSOID[\"GRS_1980\",6378137.0,298.257222101,LENGTHUNIT[\"Meter\",1.0]]],PRIMEM[\"Greenwich\",0.0,ANGLEUNIT[\"Degree\",0.0174532925199433]],CS[ellipsoidal,2],ANGLEUNIT[\"Degree\",0.0174532925199433]],CONVERSION[\"Transverse_Mercator\",METHOD[\"Transverse_Mercator\"],PARAMETER[\"false_easting\",656166.66666666,LENGTHUNIT[\"US survey foot\",0.3048006096012192]],PARAMETER[\"false_northing\",0.0,LENGTHUNIT[\"US survey foot\",0.3048006096012192]],PARAMETER[\"central_meridian\",-75.416666666667,ANGLEUNIT[\"Degree\",0.0174532925199433]],PARAMETER[\"scale_factor\",0.999995,SCALEUNIT[\"Unity\",1.0]],PARAMETER[\"latitude_of_origin\",38.0,ANGLEUNIT[\"Degree\",0.0174532925199433]]],CS[Cartesian,2],AXIS[\"Easting (X)\",east,ORDER[1]],AXIS[\"Northing (Y)\",north,ORDER[2]],LENGTHUNIT[\"US survey foot\",0.3048006096012192]]",
   "wkt": "PROJCS[\"NAD_1983_Delaware\",GEOGCS[\"GCS_NAD83_1986\",DATUM[\"D_North_American_1983\",SPHEROID[\"GRS_1980\",6378137.0,298.257222101]],PRIMEM[\"Greenwich\",0.0],UNIT[\"Degree\",0.0174532925199433]],PROJECTION[\"Transverse_Mercator\"],PARAMETER[\"false_easting\",656166.66666666],PARAMETER[\"false_northing\",0.0],PARAMETER[\"central_meridian\",-75.416666666667],PARAMETER[\"scale_factor\",0.999995],PARAMETER[\"latitude_of_origin\",38.0],UNIT[\"US survey foot\",0.3048006096012192]]"
  }
 },
 "initialExtent": {
  "xmin": 542232.1526300348,
  "ymin": 469164.72824957967,
  "xmax": 659082.9026300348,
  "ymax": 675105.7282495797,
  "spatialReference": {
   "wkt2": "PROJCRS[\"NAD_1983_Delaware\",BASEGEOGCRS[\"GCS_NAD83_1986\",DATUM[\"D_North_American_1983\",ELLIPSOID[\"GRS_1980\",6378137.0,298.257222101,LENGTHUNIT[\"Meter\",1.0]]],PRIMEM[\"Greenwich\",0.0,ANGLEUNIT[\"Degree\",0.0174532925199433]],CS[ellipsoidal,2],ANGLEUNIT[\"Degree\",0.0174532925199433]],CONVERSION[\"Transverse_Mercator\",METHOD[\"Transverse_Mercator\"],PARAMETER[\"false_easting\",656166.66666666,LENGTHUNIT[\"US survey foot\",0.3048006096012192]],PARAMETER[\"false_northing\",0.0,LENGTHUNIT[\"US survey foot\",0.3048006096012192]],PARAMETER[\"central_meridian\",-75.416666666667,ANGLEUNIT[\"Degree\",0.0174532925199433]],PARAMETER[\"scale_factor\",0.999995,SCALEUNIT[\"Unity\",1.0]],PARAMETER[\"latitude_of_origin\",38.0,ANGLEUNIT[\"Degree\",0.0174532925199433]]],CS[Cartesian,2],AXIS[\"Easting (X)\",east,ORDER[1]],AXIS[\"Northing (Y)\",north,ORDER[2]],LENGTHUNIT[\"US survey foot\",0.3048006096012192]]",
   "wkt": "PROJCS[\"NAD_1983_Delaware\",GEOGCS[\"GCS_NAD83_1986\",DATUM[\"D_North_American_1983\",SPHEROID[\"GRS_1980\",6378137.0,298.257222101]],PRIMEM[\"Greenwich\",0.0],UNIT[\"Degree\",0.0174532925199433]],PROJECTION[\"Transverse_Mercator\"],PARAMETER[\"false_easting\",656166.66666666],PARAMETER[\"false_northing\",0.0],PARAMETER[\"central_meridian\",-75.416666666667],PARAMETER[\"scale_factor\",0.999995],PARAMETER[\"latitude_of_origin\",38.0],UNIT[\"US survey foot\",0.3048006096012192]]"
  }
 },
 "fullExtent": {
  "xmin": 542232.1526300348,
  "ymin": 469164.72824957967,
  "xmax": 659082.9026300348,
  "ymax": 675105.7282495797,
  "spatialReference": {
   "wkt2": "PROJCRS[\"NAD_1983_Delaware\",BASEGEOGCRS[\"GCS_NAD83_1986\",DATUM[\"D_North_American_1983\",ELLIPSOID[\"GRS_1980\",6378137.0,298.257222101,LENGTHUNIT[\"Meter\",1.0]]],PRIMEM[\"Greenwich\",0.0,ANGLEUNIT[\"Degree\",0.0174532925199433]],CS[ellipsoidal,2],ANGLEUNIT[\"Degree\",0.0174532925199433]],CONVERSION[\"Transverse_Mercator\",METHOD[\"Transverse_Mercator\"],PARAMETER[\"false_easting\",656166.66666666,LENGTHUNIT[\"US survey foot\",0.3048006096012192]],PARAMETER[\"false_northing\",0.0,LENGTHUNIT[\"US survey foot\",0.3048006096012192]],PARAMETER[\"central_meridian\",-75.416666666667,ANGLEUNIT[\"Degree\",0.0174532925199433]],PARAMETER[\"scale_factor\",0.999995,SCALEUNIT[\"Unity\",1.0]],PARAMETER[\"latitude_of_origin\",38.0,ANGLEUNIT[\"Degree\",0.0174532925199433]]],CS[Cartesian,2],AXIS[\"Easting (X)\",east,ORDER[1]],AXIS[\"Northing (Y)\",north,ORDER[2]],LENGTHUNIT[\"US survey foot\",0.3048006096012192]]",
   "wkt": "PROJCS[\"NAD_1983_Delaware\",GEOGCS[\"GCS_NAD83_1986\",DATUM[\"D_North_American_1983\",SPHEROID[\"GRS_1980\",6378137.0,298.257222101]],PRIMEM[\"Greenwich\",0.0],UNIT[\"Degree\",0.0174532925199433]],PROJECTION[\"Transverse_Mercator\"],PARAMETER[\"false_easting\",656166.66666666],PARAMETER[\"false_northing\",0.0],PARAMETER[\"central_meridian\",-75.416666666667],PARAMETER[\"scale_factor\",0.999995],PARAMETER[\"latitude_of_origin\",38.0],UNIT[\"US survey foot\",0.3048006096012192]]"
  }
 },
 "sortableFields": "",
 "bandCount": 3,
 "pixelType": "U8",
 "minValues": [],
 "maxValues": [],
 "meanValues": [],
 "stdvValues": [],
 "serviceProperties": "Center<\/MosaicMethod>First<\/MosaicOperator>true<\/SortAscending><\/LockImageID><\/TileOrderField>0<\/TileOrderBase>0.000000<\/AvgImageSpacingX>0.000000<\/AvgImageSpacingY>0.0<\/ViewPointX>0.0<\/ViewPointY>0.0<\/ViewPointDefShiftX>0.0<\/ViewPointDefShiftY>None<\/CompressionMethod>75<\/CompressionQuality>0.010000<\/CompressionTolerance>Bilinear<\/SamplingMethod><\/ImageServiceProperties><\/ImageServer>",
 "allowedFields": "",
 "hasMultidimensions": false,
 "pixelSizeX": 0.75,
 "pixelSizeY": 0.75,
 "meanPixelSize": 0.22860045720091443,
 "datasetFormat": "FGDBR",
 "uncompressedSize": 128343254964,
 "blockWidth": 128,
 "blockHeight": 128,
 "compressionType": "LZ77",
 "bandNames": [
  "Band_1",
  "Band_2",
  "Band_3"
 ],
 "allowCopy": true,
 "allowAnalysis": true,
 "itemAccess": false,
 "inspectionCapabilities": "",
 "minPixelSize": 0,
 "maxPixelSize": 0,
 "copyrightText": "NCCDE GIS",
 "serviceDataType": "esriImageServiceDataTypeProcessed",
 "serviceSourceType": "esriImageServiceSourceTypeDataset",
 "objectIdField": "",
 "fields": [],
 "capabilities": "Image,Metadata,Mensuration",
 "defaultMosaicMethod": "Center",
 "allowedMosaicMethods": "",
 "sortField": "",
 "sortValue": null,
 "sortAscending": true,
 "mosaicOperator": "First",
 "defaultCompressionQuality": 75,
 "defaultResamplingMethod": "Bilinear",
 "maxImageHeight": 4100,
 "maxImageWidth": 15000,
 "allowRasterFunction": true,
 "rasterFunctionInfos": [
  {
   "name": "None",
   "description": "",
   "help": ""
  }
 ],
 "rasterTypeInfos": [
  {
   "name": "Raster Dataset",
   "description": "Supports all ArcGIS Raster Datasets",
   "help": ""
  }
 ],
 "mensurationCapabilities": "Basic",
 "hasHistograms": false,
 "hasColormap": false,
 "hasRasterAttributeTable": false,
 "minScale": 0,
 "maxScale": 0,
 "exportTilesAllowed": false,
 "supportsStatistics": false,
 "supportsAdvancedQueries": false,
 "editFieldsInfo": null,
 "ownershipBasedAccessControlForRasters": null,
 "allowComputeTiePoints": false,
 "useStandardizedQueries": true,
 "advancedQueryCapabilities": {
  "useStandardizedQueries": true,
  "supportsStatistics": false,
  "supportsOrderBy": false,
  "supportsDistinct": false,
  "supportsPagination": false
 },
 "spatialReference": {
  "wkt2": "PROJCRS[\"NAD_1983_Delaware\",BASEGEOGCRS[\"GCS_NAD83_1986\",DATUM[\"D_North_American_1983\",ELLIPSOID[\"GRS_1980\",6378137.0,298.257222101,LENGTHUNIT[\"Meter\",1.0]]],PRIMEM[\"Greenwich\",0.0,ANGLEUNIT[\"Degree\",0.0174532925199433]],CS[ellipsoidal,2],ANGLEUNIT[\"Degree\",0.0174532925199433]],CONVERSION[\"Transverse_Mercator\",METHOD[\"Transverse_Mercator\"],PARAMETER[\"false_easting\",656166.66666666,LENGTHUNIT[\"US survey foot\",0.3048006096012192]],PARAMETER[\"false_northing\",0.0,LENGTHUNIT[\"US survey foot\",0.3048006096012192]],PARAMETER[\"central_meridian\",-75.416666666667,ANGLEUNIT[\"Degree\",0.0174532925199433]],PARAMETER[\"scale_factor\",0.999995,SCALEUNIT[\"Unity\",1.0]],PARAMETER[\"latitude_of_origin\",38.0,ANGLEUNIT[\"Degree\",0.0174532925199433]]],CS[Cartesian,2],AXIS[\"Easting (X)\",east,ORDER[1]],AXIS[\"Northing (Y)\",north,ORDER[2]],LENGTHUNIT[\"US survey foot\",0.3048006096012192]]",
  "wkt": "PROJCS[\"NAD_1983_Delaware\",GEOGCS[\"GCS_NAD83_1986\",DATUM[\"D_North_American_1983\",SPHEROID[\"GRS_1980\",6378137.0,298.257222101]],PRIMEM[\"Greenwich\",0.0],UNIT[\"Degree\",0.0174532925199433]],PROJECTION[\"Transverse_Mercator\"],PARAMETER[\"false_easting\",656166.66666666],PARAMETER[\"false_northing\",0.0],PARAMETER[\"central_meridian\",-75.416666666667],PARAMETER[\"scale_factor\",0.999995],PARAMETER[\"latitude_of_origin\",38.0],UNIT[\"US survey foot\",0.3048006096012192]]"
 }
}
