{
 "currentVersion": 11.5,
 "serviceDescription": "Imagery/Imagery_2022",
 "serviceItemId": "a39aee11b4c84154bc394f16a7cbcecc",
 "name": "Imagery/Imagery_2022",
 "description": "",
 "extent": {
  "xmin": 550968,
  "ymin": 468960.75,
  "xmax": 660384.75,
  "ymax": 670824,
  "spatialReference": {
   "wkid": 102657,
   "latestWkid": 2235
  }
 },
 "initialExtent": {
  "xmin": 550968,
  "ymin": 468960.75,
  "xmax": 660384.75,
  "ymax": 670824,
  "spatialReference": {
   "wkid": 102657,
   "latestWkid": 2235
  }
 },
 "fullExtent": {
  "xmin": 550968,
  "ymin": 468960.75,
  "xmax": 660384.75,
  "ymax": 670824,
  "spatialReference": {
   "wkid": 102657,
   "latestWkid": 2235
  }
 },
 "sortableFields": "",
 "bandCount": 3,
 "pixelType": "U8",
 "minValues": [
  0,
  0,
  0
 ],
 "maxValues": [
  255,
  255,
  255
 ],
 "meanValues": [
  137.99399109304503,
  125.56324461621735,
  94.740127581987
 ],
 "stdvValues": [
  44.11358650808437,
  45.39079489904127,
  49.23075297662718
 ],
 "serviceProperties": "Center<\/MosaicMethod>First<\/MosaicOperator>true<\/SortAscending><\/LockImageID><\/TileOrderField>0<\/TileOrderBase>0.000000<\/AvgImageSpacingX>0.000000<\/AvgImageSpacingY>0.0<\/ViewPointX>0.0<\/ViewPointY>0.0<\/ViewPointDefShiftX>0.0<\/ViewPointDefShiftY>None<\/CompressionMethod>75<\/CompressionQuality>0.010000<\/CompressionTolerance>Bilinear<\/SamplingMethod><\/ImageServiceProperties><\/ImageServer>",
 "allowedFields": "",
 "hasMultidimensions": false,
 "pixelSizeX": 0.75,
 "pixelSizeY": 0.75,
 "meanPixelSize": 0.22860045720091443,
 "datasetFormat": "FGDBR",
 "uncompressedSize": 117798510717,
 "blockWidth": 128,
 "blockHeight": 128,
 "compressionType": "LZ77",
 "bandNames": [
  "Band_1",
  "Band_2",
  "Band_3"
 ],
 "allowCopy": true,
 "allowAnalysis": true,
 "itemAccess": false,
 "inspectionCapabilities": "",
 "minPixelSize": 0,
 "maxPixelSize": 0,
 "copyrightText": "",
 "serviceDataType": "esriImageServiceDataTypeRGB",
 "serviceSourceType": "esriImageServiceSourceTypeDataset",
 "objectIdField": "",
 "fields": [],
 "capabilities": "Image,Metadata,Mensuration",
 "defaultMosaicMethod": "Center",
 "allowedMosaicMethods": "",
 "sortField": "",
 "sortValue": null,
 "sortAscending": true,
 "mosaicOperator": "First",
 "defaultCompressionQuality": 75,
 "defaultResamplingMethod": "Bilinear",
 "maxImageHeight": 4100,
 "maxImageWidth": 15000,
 "allowRasterFunction": true,
 "rasterFunctionInfos": [
  {
   "name": "None",
   "description": "",
   "help": ""
  }
 ],
 "rasterTypeInfos": [
  {
   "name": "Raster Dataset",
   "description": "Supports all ArcGIS Raster Datasets",
   "help": ""
  }
 ],
 "mensurationCapabilities": "Basic",
 "hasHistograms": true,
 "hasColormap": false,
 "hasRasterAttributeTable": false,
 "minScale": 0,
 "maxScale": 0,
 "exportTilesAllowed": false,
 "supportsStatistics": false,
 "supportsAdvancedQueries": false,
 "editFieldsInfo": null,
 "ownershipBasedAccessControlForRasters": null,
 "allowComputeTiePoints": false,
 "useStandardizedQueries": true,
 "advancedQueryCapabilities": {
  "useStandardizedQueries": true,
  "supportsStatistics": false,
  "supportsOrderBy": false,
  "supportsDistinct": false,
  "supportsPagination": false
 },
 "spatialReference": {
  "wkid": 102657,
  "latestWkid": 2235
 }
}
