View In:
ArcGIS JavaScript
ArcGIS Online Map Viewer
ArcGIS Earth
Service Description: Imagery/Imagery_2021
Name: Imagery/Imagery_2021
Description:
Single Fused Map Cache: false
Extent:
XMin: 551330.25
YMin: 470016.75
XMax: 659328.75
YMax: 670014.75
Spatial Reference: 102657
(2235)
LatestVCSWkid(0)
Initial Extent:
XMin: 551330.25
YMin: 470016.75
XMax: 659328.75
YMax: 670014.75
Spatial Reference: 102657
(2235)
LatestVCSWkid(0)
Full Extent:
XMin: 551330.25
YMin: 470016.75
XMax: 659328.75
YMax: 670014.75
Spatial Reference: 102657
(2235)
LatestVCSWkid(0)
Pixel Size X: 0.75
Pixel Size Y: 0.75
Band Count: 3
Pixel Type: U8
RasterFunction Infos: {"rasterFunctionInfos": [{
"name": "None",
"description": "",
"help": ""
}]}
Mensuration Capabilities: Basic
Inspection Capabilities:
Has Histograms: true
Has Colormap: false
Has Multi Dimensions : false
Rendering Rule:
Min Scale: 0
Max Scale: 0
Copyright Text:
Service Data Type: esriImageServiceDataTypeRGB
Min Values: 0, 0, 0
Max Values: 255, 255, 255
Mean Values: 140.82190693486314, 134.9710950284599, 83.93062502100095
Standard Deviation Values: 41.81270427459493, 40.8101407546735, 50.37862663538834
Object ID Field:
Fields:
None
Default Mosaic Method: Center
Allowed Mosaic Methods:
SortField:
SortValue: null
Mosaic Operator: First
Default Compression Quality: 75
Default Resampling Method: Bilinear
Max Record Count: null
Max Image Height: 4100
Max Image Width: 15000
Max Download Image Count: null
Max Mosaic Image Count: null
Allow Raster Function: true
Allow Copy: true
Allow Analysis: true
Allow Compute TiePoints: false
Supports Statistics: false
Supports Advanced Queries: false
Use StandardizedQueries: true
Raster Type Infos:
Name: Raster Dataset
Description: Supports all ArcGIS Raster Datasets
Help:
Has Raster Attribute Table: false
Edit Fields Info: null
Ownership Based AccessControl For Rasters: null
Child Resources:
Info
Histograms
Statistics
Key Properties
Legend
Raster Function Infos
Supported Operations:
Export Image
Identify
Measure
Compute Histograms
Compute Statistics Histograms
Get Samples
Compute Class Statistics
Query Boundary
Compute Pixel Location
Compute Angles
Validate
Project