View In:
ArcGIS JavaScript
ArcGIS Online Map Viewer
ArcGIS Earth
Service Description: 1982 Imagery
Name: Imagery/Imagery_1982
Description: 1982 Imagery
Single Fused Map Cache: false
Extent:
XMin: 549021.8133352132
YMin: 465019.1439812235
XMax: 659879.7281794439
YMax: 673947.5222609163
Spatial Reference: 2880
(2880)
LatestVCSWkid(0)
Initial Extent:
XMin: 549021.8133352132
YMin: 465019.1439812235
XMax: 659879.7281794439
YMax: 673947.5222609163
Spatial Reference: 2880
(2880)
LatestVCSWkid(0)
Full Extent:
XMin: 549021.8133352132
YMin: 465019.1439812235
XMax: 659879.7281794439
YMax: 673947.5222609163
Spatial Reference: 2880
(2880)
LatestVCSWkid(0)
Pixel Size X: 0.8475246161697118
Pixel Size Y: 0.8475246161697122
Band Count: 1
Pixel Type: U8
RasterFunction Infos: {"rasterFunctionInfos": [{
"name": "None",
"description": "",
"help": ""
}]}
Mensuration Capabilities: Basic
Inspection Capabilities:
Has Histograms: true
Has Colormap: false
Has Multi Dimensions : false
Rendering Rule:
Min Scale: 0
Max Scale: 0
Copyright Text: NCCDE GIS
Service Data Type: esriImageServiceDataTypeGeneric
Min Values: 9
Max Values: 255
Mean Values: 147.78835039357122
Standard Deviation Values: 53.77378163865469
Object ID Field:
Fields:
None
Default Mosaic Method: Center
Allowed Mosaic Methods:
SortField:
SortValue: null
Mosaic Operator: First
Default Compression Quality: 75
Default Resampling Method: Bilinear
Max Record Count: null
Max Image Height: 4100
Max Image Width: 15000
Max Download Image Count: null
Max Mosaic Image Count: null
Allow Raster Function: true
Allow Copy: true
Allow Analysis: true
Allow Compute TiePoints: false
Supports Statistics: false
Supports Advanced Queries: false
Use StandardizedQueries: true
Raster Type Infos:
Name: Raster Dataset
Description: Supports all ArcGIS Raster Datasets
Help:
Has Raster Attribute Table: false
Edit Fields Info: null
Ownership Based AccessControl For Rasters: null
Child Resources:
Info
Histograms
Statistics
Key Properties
Legend
Raster Function Infos
Supported Operations:
Export Image
Identify
Measure
Compute Histograms
Compute Statistics Histograms
Get Samples
Compute Class Statistics
Query Boundary
Compute Pixel Location
Compute Angles
Validate
Project