View In:
ArcGIS JavaScript
ArcGIS Online Map Viewer
ArcGIS Earth
Service Description: Imagery 2017
Name: Imagery/Imagery_2017
Description: Imagery 2017
Single Fused Map Cache: false
Extent:
XMin: 165272.64388709003
YMin: 139783.46375892725
XMax: 200895.68216935
YMax: 205772.64414529
Spatial Reference: 0
(0)
LatestVCSWkid(0)
Initial Extent:
XMin: 165272.64388709003
YMin: 139783.46375892725
XMax: 200895.68216935
YMax: 205772.64414529
Spatial Reference: 0
(0)
LatestVCSWkid(0)
Full Extent:
XMin: 165272.64388709003
YMin: 139783.46375892725
XMax: 200895.68216935
YMax: 205772.64414529
Spatial Reference: 0
(0)
LatestVCSWkid(0)
Pixel Size X: 0.22860045999999987
Pixel Size Y: 0.2286004600000095
Band Count: 3
Pixel Type: U8
RasterFunction Infos: {"rasterFunctionInfos": [{
"name": "None",
"description": "",
"help": ""
}]}
Mensuration Capabilities: Basic
Inspection Capabilities:
Has Histograms: true
Has Colormap: false
Has Multi Dimensions : false
Rendering Rule:
Min Scale: 0
Max Scale: 0
Copyright Text: NCCDE GIS
Service Data Type: esriImageServiceDataTypeProcessed
Min Values: 0, 0, 0
Max Values: 255, 255, 255
Mean Values: 131.82350392571814, 118.83578533825806, 95.51176476968472
Standard Deviation Values: 43.21228875093841, 39.101610245828354, 33.20434129790551
Object ID Field:
Fields:
None
Default Mosaic Method: Center
Allowed Mosaic Methods:
SortField:
SortValue: null
Mosaic Operator: First
Default Compression Quality: 75
Default Resampling Method: Bilinear
Max Record Count: null
Max Image Height: 4100
Max Image Width: 15000
Max Download Image Count: null
Max Mosaic Image Count: null
Allow Raster Function: true
Allow Copy: true
Allow Analysis: true
Allow Compute TiePoints: false
Supports Statistics: false
Supports Advanced Queries: false
Use StandardizedQueries: true
Raster Type Infos:
Name: Raster Dataset
Description: Supports all ArcGIS Raster Datasets
Help:
Has Raster Attribute Table: false
Edit Fields Info: null
Ownership Based AccessControl For Rasters: null
Child Resources:
Info
Histograms
Statistics
Key Properties
Legend
Raster Function Infos
Supported Operations:
Export Image
Identify
Measure
Compute Histograms
Compute Statistics Histograms
Get Samples
Compute Class Statistics
Query Boundary
Compute Pixel Location
Compute Angles
Validate
Project